BEGIN:VCALENDAR
VERSION:2.0
CALSCALE:GREGORIAN
BEGIN:VEVENT
URL:https://www.learndesk.us/class/5052362706124800/lesson/36321ee9f59284b390657ca56f82cdf6?ref=outlook-calendar
SUMMARY:Displaying the User Data
DTSTART;TZID=America/Los_Angeles:20260422T190000
DTEND;TZID=America/Los_Angeles:20260422T200000
LOCATION:https://www.learndesk.us/class/5052362706124800/lesson/36321ee9f59284b390657ca56f82cdf6?ref=outlook-calendar
DESCRIPTION: This video shows some code to finally display data and connect our shapes to that data.

https://www.learndesk.us/class/5052362706124800/lesson/36321ee9f59284b390657ca56f82cdf6?ref=outlook-calendar
STATUS:CONFIRMED
SEQUENCE:3
BEGIN:VALARM
TRIGGER:-PT10M
DESCRIPTION:Class Reminder
ACTION:DISPLAY
END:VALARM
END:VEVENT
END:VCALENDAR