BEGIN:VCALENDAR
VERSION:2.0
CALSCALE:GREGORIAN
BEGIN:VEVENT
URL:https://www.learndesk.us/class/5052362706124800/lesson/24f2982ac9eb0b676a3ae183882dab7c?ref=outlook-calendar
SUMMARY:Applying Different Filter Types
DTSTART;TZID=America/Los_Angeles:20260422T190000
DTEND;TZID=America/Los_Angeles:20260422T200000
LOCATION:https://www.learndesk.us/class/5052362706124800/lesson/24f2982ac9eb0b676a3ae183882dab7c?ref=outlook-calendar
DESCRIPTION: This video tries to understand the different filter types available in the report view.

https://www.learndesk.us/class/5052362706124800/lesson/24f2982ac9eb0b676a3ae183882dab7c?ref=outlook-calendar
STATUS:CONFIRMED
SEQUENCE:3
BEGIN:VALARM
TRIGGER:-PT10M
DESCRIPTION:Class Reminder
ACTION:DISPLAY
END:VALARM
END:VEVENT
END:VCALENDAR