BEGIN:VCALENDAR
VERSION:2.0
CALSCALE:GREGORIAN
BEGIN:VEVENT
URL:https://www.learndesk.us/class/5052362706124800/lesson/2331606525837178096404ffa1b38ba3?ref=outlook-calendar
SUMMARY:One Last Thing: Excluding Datasets From Sharing
DTSTART;TZID=America/Los_Angeles:20260422T190000
DTEND;TZID=America/Los_Angeles:20260422T200000
LOCATION:https://www.learndesk.us/class/5052362706124800/lesson/2331606525837178096404ffa1b38ba3?ref=outlook-calendar
DESCRIPTION: Learn how to use a specific function to exclude datasets from sharing.

https://www.learndesk.us/class/5052362706124800/lesson/2331606525837178096404ffa1b38ba3?ref=outlook-calendar
STATUS:CONFIRMED
SEQUENCE:3
BEGIN:VALARM
TRIGGER:-PT10M
DESCRIPTION:Class Reminder
ACTION:DISPLAY
END:VALARM
END:VEVENT
END:VCALENDAR