BEGIN:VCALENDAR
VERSION:2.0
CALSCALE:GREGORIAN
BEGIN:VEVENT
URL:https://www.learndesk.us/class/5052362706124800/lesson/1f038e58aa73aae544c68db3775e9735?ref=outlook-calendar
SUMMARY:Module Summary
DTSTART;TZID=America/Los_Angeles:20260422T190000
DTEND;TZID=America/Los_Angeles:20260422T200000
LOCATION:https://www.learndesk.us/class/5052362706124800/lesson/1f038e58aa73aae544c68db3775e9735?ref=outlook-calendar
DESCRIPTION: This video summarizes what we learned about visualizations in Power BI Desktop.

https://www.learndesk.us/class/5052362706124800/lesson/1f038e58aa73aae544c68db3775e9735?ref=outlook-calendar
STATUS:CONFIRMED
SEQUENCE:3
BEGIN:VALARM
TRIGGER:-PT10M
DESCRIPTION:Class Reminder
ACTION:DISPLAY
END:VALARM
END:VEVENT
END:VCALENDAR