BEGIN:VCALENDAR
VERSION:2.0
CALSCALE:GREGORIAN
BEGIN:VEVENT
URL:https://www.learndesk.us/class/5052362706124800/lesson/1d800b46e2ae11cb64b10a1b1e60de98?ref=outlook-calendar
SUMMARY:Connecting Power BI Desktop to our Data Sources
DTSTART;TZID=America/Los_Angeles:20260422T190000
DTEND;TZID=America/Los_Angeles:20260422T200000
LOCATION:https://www.learndesk.us/class/5052362706124800/lesson/1d800b46e2ae11cb64b10a1b1e60de98?ref=outlook-calendar
DESCRIPTION: Learn to connect Power BI Desktop to data sources.

https://www.learndesk.us/class/5052362706124800/lesson/1d800b46e2ae11cb64b10a1b1e60de98?ref=outlook-calendar
STATUS:CONFIRMED
SEQUENCE:3
BEGIN:VALARM
TRIGGER:-PT10M
DESCRIPTION:Class Reminder
ACTION:DISPLAY
END:VALARM
END:VEVENT
END:VCALENDAR