BEGIN:VCALENDAR
VERSION:2.0
CALSCALE:GREGORIAN
BEGIN:VEVENT
URL:https://www.learndesk.us/class/5052362706124800/lesson/16b7e793565a81b546bb35bc030a068d?ref=outlook-calendar
SUMMARY:Module Introduction
DTSTART;TZID=America/Los_Angeles:20260425T190000
DTEND;TZID=America/Los_Angeles:20260425T200000
LOCATION:https://www.learndesk.us/class/5052362706124800/lesson/16b7e793565a81b546bb35bc030a068d?ref=outlook-calendar
DESCRIPTION: This video introduces this module and explains the contents.

https://www.learndesk.us/class/5052362706124800/lesson/16b7e793565a81b546bb35bc030a068d?ref=outlook-calendar
STATUS:CONFIRMED
SEQUENCE:3
BEGIN:VALARM
TRIGGER:-PT10M
DESCRIPTION:Class Reminder
ACTION:DISPLAY
END:VALARM
END:VEVENT
END:VCALENDAR