BEGIN:VCALENDAR
VERSION:2.0
CALSCALE:GREGORIAN
BEGIN:VEVENT
URL:https://www.learndesk.us/class/5052362706124800/lesson/1361896f5ab80ffe32da839e73e49e34?ref=outlook-calendar
SUMMARY:Getting Started
DTSTART;TZID=America/Los_Angeles:20260422T190000
DTEND;TZID=America/Los_Angeles:20260422T200000
LOCATION:https://www.learndesk.us/class/5052362706124800/lesson/1361896f5ab80ffe32da839e73e49e34?ref=outlook-calendar
DESCRIPTION: 
This section introduces Power BI Tools and helps to understand it. You will install the Power BI Desktop and connects to data, works on Query editor, and learn how to attach Project Files.

Welcome to this course
Understanding the Power BI tools
Initial Project 1/3: Installing Power BI Desktop and connecting to data
Initial Project 2/3: Working in the Query Editor
Initial Project 3/3: Working in the Data Model and Creating a Visualization
Course outline
How to use the attached project files



https://www.learndesk.us/class/5052362706124800/lesson/1361896f5ab80ffe32da839e73e49e34?ref=outlook-calendar
STATUS:CONFIRMED
SEQUENCE:3
BEGIN:VALARM
TRIGGER:-PT10M
DESCRIPTION:Class Reminder
ACTION:DISPLAY
END:VALARM
END:VEVENT
END:VCALENDAR