BEGIN:VCALENDAR
VERSION:2.0
CALSCALE:GREGORIAN
BEGIN:VEVENT
URL:https://www.learndesk.us/class/5052362706124800/lesson/1305a705d64f0eb125181e2afefcc324?ref=outlook-calendar
SUMMARY:Working on our Data Model: Data and Relationship View
DTSTART;TZID=America/Los_Angeles:20260422T190000
DTEND;TZID=America/Los_Angeles:20260422T200000
LOCATION:https://www.learndesk.us/class/5052362706124800/lesson/1305a705d64f0eb125181e2afefcc324?ref=outlook-calendar
DESCRIPTION: 
This section explains working on Data Model, Query editor vs. Data Model, etc.

Module introduction
Query Editor vs. Data Model
Introducing and understanding relationships
Editing relationships
Understanding cardinality
Cross filter selection and many-to-many relationships
Active properties
Understanding the differences between the M-Language and DAX
M vs. DAX applied: Calculated columns
M vs. DAX: conclusion
DAX - Basic information
DAX and calculated columns
Calculated columns vs. measures
Introducing DAX-measures
DAX-Measures continued
Categorizing data
Module summary



https://www.learndesk.us/class/5052362706124800/lesson/1305a705d64f0eb125181e2afefcc324?ref=outlook-calendar
STATUS:CONFIRMED
SEQUENCE:3
BEGIN:VALARM
TRIGGER:-PT10M
DESCRIPTION:Class Reminder
ACTION:DISPLAY
END:VALARM
END:VEVENT
END:VCALENDAR