BEGIN:VCALENDAR
VERSION:2.0
CALSCALE:GREGORIAN
BEGIN:VEVENT
URL:https://www.learndesk.us/class/5052362706124800/lesson/110cee653e74ea7d6eef22f6bbaf01c8?ref=outlook-calendar
SUMMARY:Improving Performance and Loading Data Into the Data Model
DTSTART;TZID=America/Los_Angeles:20260422T190000
DTEND;TZID=America/Los_Angeles:20260422T200000
LOCATION:https://www.learndesk.us/class/5052362706124800/lesson/110cee653e74ea7d6eef22f6bbaf01c8?ref=outlook-calendar
DESCRIPTION: Learn to improve performance and loading data into data model.

https://www.learndesk.us/class/5052362706124800/lesson/110cee653e74ea7d6eef22f6bbaf01c8?ref=outlook-calendar
STATUS:CONFIRMED
SEQUENCE:3
BEGIN:VALARM
TRIGGER:-PT10M
DESCRIPTION:Class Reminder
ACTION:DISPLAY
END:VALARM
END:VEVENT
END:VCALENDAR