BEGIN:VCALENDAR
VERSION:2.0
CALSCALE:GREGORIAN
BEGIN:VEVENT
URL:https://www.learndesk.us/class/5052362706124800/lesson/0a161dd025565365839ba5198ba15da2?ref=outlook-calendar
SUMMARY:Editing Interactions and Adding Tooltips
DTSTART;TZID=America/Los_Angeles:20260422T190000
DTEND;TZID=America/Los_Angeles:20260422T200000
LOCATION:https://www.learndesk.us/class/5052362706124800/lesson/0a161dd025565365839ba5198ba15da2?ref=outlook-calendar
DESCRIPTION: This video tries to understand how charts interact with each other and how tooltips could be added.

https://www.learndesk.us/class/5052362706124800/lesson/0a161dd025565365839ba5198ba15da2?ref=outlook-calendar
STATUS:CONFIRMED
SEQUENCE:3
BEGIN:VALARM
TRIGGER:-PT10M
DESCRIPTION:Class Reminder
ACTION:DISPLAY
END:VALARM
END:VEVENT
END:VCALENDAR