BEGIN:VCALENDAR
VERSION:2.0
CALSCALE:GREGORIAN
BEGIN:VEVENT
URL:https://www.learndesk.us/class/5052362706124800/lesson/0513233390848adac26e608d2f9577ac?ref=outlook-calendar
SUMMARY:Welcome to This Course
DTSTART;TZID=America/Los_Angeles:20260422T190000
DTEND;TZID=America/Los_Angeles:20260422T200000
LOCATION:https://www.learndesk.us/class/5052362706124800/lesson/0513233390848adac26e608d2f9577ac?ref=outlook-calendar
DESCRIPTION: This video introduces the course.

https://www.learndesk.us/class/5052362706124800/lesson/0513233390848adac26e608d2f9577ac?ref=outlook-calendar
STATUS:CONFIRMED
SEQUENCE:3
BEGIN:VALARM
TRIGGER:-PT10M
DESCRIPTION:Class Reminder
ACTION:DISPLAY
END:VALARM
END:VEVENT
END:VCALENDAR