BEGIN:VCALENDAR
VERSION:2.0
CALSCALE:GREGORIAN
BEGIN:VEVENT
URL:https://www.learndesk.us/class/5052362706124800/lesson/0179e651b7ddc37129748ec5c2902188?ref=outlook-calendar
SUMMARY:Replacing Values
DTSTART;TZID=America/Los_Angeles:20260421T190000
DTEND;TZID=America/Los_Angeles:20260421T200000
LOCATION:https://www.learndesk.us/class/5052362706124800/lesson/0179e651b7ddc37129748ec5c2902188?ref=outlook-calendar
DESCRIPTION: Let's learn about the replace function.

https://www.learndesk.us/class/5052362706124800/lesson/0179e651b7ddc37129748ec5c2902188?ref=outlook-calendar
STATUS:CONFIRMED
SEQUENCE:3
BEGIN:VALARM
TRIGGER:-PT10M
DESCRIPTION:Class Reminder
ACTION:DISPLAY
END:VALARM
END:VEVENT
END:VCALENDAR