BEGIN:VCALENDAR
VERSION:2.0
CALSCALE:GREGORIAN
BEGIN:VEVENT
URL:https://www.learndesk.us/class/5052362706124800/microsoft-power-bi-a-complete-introduction?ref=outlook-calendar
SUMMARY:Microsoft Power BI: A Complete Introduction
DTSTART;TZID=America/Los_Angeles:20260421T190000
DTEND;TZID=America/Los_Angeles:20260421T200000
LOCATION:https://www.learndesk.us/class/5052362706124800/microsoft-power-bi-a-complete-introduction?ref=outlook-calendar
DESCRIPTION: 
Whether you want to analyze data from single or multiple sources or create impressive visualizations from datasets and share your results with colleagues, Power BI is the tool that’ll help you to achieve your business intelligence goals. With this video course, you'll learn how to use Power BI’s set of business intelligence tools effectively.
The course starts by taking you through the course objectives and introducing you to the Power BI desktop. Next, you’ll connect Power BI to various source types using the query editor, understand the data model, and add relationships between different tables. Moving ahead, you’ll create visuals in the report view and share your work with colleagues and others using Power BI Pro. As you advance, you’ll get prepared to import data from sources such as JSON, REST APIs, and MySQL Server. Later, you’ll explore tips to stay ahead in the Power BI world and create custom visuals using TypeScript and Power BI Developer tools. Toward the end, you’ll...

https://www.learndesk.us/class/5052362706124800/microsoft-power-bi-a-complete-introduction?ref=outlook-calendar
STATUS:CONFIRMED
SEQUENCE:3
BEGIN:VALARM
TRIGGER:-PT10M
DESCRIPTION:Class Reminder
ACTION:DISPLAY
END:VALARM
END:VEVENT
END:VCALENDAR