BEGIN:VCALENDAR
VERSION:2.0
CALSCALE:GREGORIAN
BEGIN:VEVENT
URL:https://www.learndesk.us/class/5021499842887680/lesson/704df5bbdcedad326916bd602498b9cb?ref=outlook-calendar
SUMMARY:6. The Sensory Dimension
DTSTART;TZID=America/Los_Angeles:20260425T190000
DTEND;TZID=America/Los_Angeles:20260425T200000
LOCATION:https://www.learndesk.us/class/5021499842887680/lesson/704df5bbdcedad326916bd602498b9cb?ref=outlook-calendar
DESCRIPTION: https://www.learndesk.us/class/5021499842887680/lesson/704df5bbdcedad326916bd602498b9cb?ref=outlook-calendar
STATUS:CONFIRMED
SEQUENCE:3
BEGIN:VALARM
TRIGGER:-PT10M
DESCRIPTION:Class Reminder
ACTION:DISPLAY
END:VALARM
END:VEVENT
END:VCALENDAR