BEGIN:VCALENDAR
VERSION:2.0
CALSCALE:GREGORIAN
BEGIN:VEVENT
URL:https://www.learndesk.us/class/5021499842887680/creative-writing-genius-2021-edition?ref=outlook-calendar
SUMMARY:Creative Writing Genius: 2021 Edition
DTSTART;TZID=America/Los_Angeles:20260425T190000
DTEND;TZID=America/Los_Angeles:20260425T200000
LOCATION:https://www.learndesk.us/class/5021499842887680/creative-writing-genius-2021-edition?ref=outlook-calendar
DESCRIPTION: What You Get


Lifetime access to the program and all new updates that are released.
Access to the Math Lab from where you can meet fellow genius learners.
Activity workbook that has over 72 Drills and exercises
Completion certificate after you take the exam at the end of the course.
4 FREE bonus videos teaching you creative writing skills.
2 FREE bonus activity books that have additional practice material.
Customer support for any questions or doubts that you may have during the program.



What will you learn in this course?



Basics of creative writing
Techniques to increase creativity
Increase the clarity
State management while writing
Technique to manage writing projects
Improving readability
Increase the value of your writing by Power Writing



https://www.learndesk.us/class/5021499842887680/creative-writing-genius-2021-edition?ref=outlook-calendar
STATUS:CONFIRMED
SEQUENCE:3
BEGIN:VALARM
TRIGGER:-PT10M
DESCRIPTION:Class Reminder
ACTION:DISPLAY
END:VALARM
END:VEVENT
END:VCALENDAR