BEGIN:VCALENDAR
VERSION:2.0
CALSCALE:GREGORIAN
BEGIN:VEVENT
URL:https://www.learndesk.us/class/4983489751416832/lesson/373da76850c5ee3fdc70a070307134fa?ref=outlook-calendar
SUMMARY:Job Interview Check List Interview 'Don’ts'
DTSTART;TZID=America/Los_Angeles:20260420T190000
DTEND;TZID=America/Los_Angeles:20260420T200000
LOCATION:https://www.learndesk.us/class/4983489751416832/lesson/373da76850c5ee3fdc70a070307134fa?ref=outlook-calendar
DESCRIPTION: https://www.learndesk.us/class/4983489751416832/lesson/373da76850c5ee3fdc70a070307134fa?ref=outlook-calendar
STATUS:CONFIRMED
SEQUENCE:3
BEGIN:VALARM
TRIGGER:-PT10M
DESCRIPTION:Class Reminder
ACTION:DISPLAY
END:VALARM
END:VEVENT
END:VCALENDAR