BEGIN:VCALENDAR
VERSION:2.0
CALSCALE:GREGORIAN
BEGIN:VEVENT
URL:https://www.learndesk.us/class/4983489751416832/lesson/1795b8feca54091188efe0efb38bb57a?ref=outlook-calendar
SUMMARY:Lesson Four: Questions to Ask an Interviewer
DTSTART;TZID=America/Los_Angeles:20260420T190000
DTEND;TZID=America/Los_Angeles:20260420T200000
LOCATION:https://www.learndesk.us/class/4983489751416832/lesson/1795b8feca54091188efe0efb38bb57a?ref=outlook-calendar
DESCRIPTION: Will Rogers said, “I never met a man I didn’t like.” An employment interview is a place to be liked. Unless you’re likable, you won’t be hireable. Listening and questioning properly is the way to win the interview. In this lesson, we look at questions you might want to ask your interviewer.

https://www.learndesk.us/class/4983489751416832/lesson/1795b8feca54091188efe0efb38bb57a?ref=outlook-calendar
STATUS:CONFIRMED
SEQUENCE:3
BEGIN:VALARM
TRIGGER:-PT10M
DESCRIPTION:Class Reminder
ACTION:DISPLAY
END:VALARM
END:VEVENT
END:VCALENDAR