BEGIN:VCALENDAR
VERSION:2.0
CALSCALE:GREGORIAN
BEGIN:VEVENT
URL:https://www.learndesk.us/class/4940031330353152/lesson/a60186a020b6e3f544e82a424df00b55?ref=outlook-calendar
SUMMARY:Conditional Formatting
DTSTART;TZID=America/Los_Angeles:20260421T190000
DTEND;TZID=America/Los_Angeles:20260421T200000
LOCATION:https://www.learndesk.us/class/4940031330353152/lesson/a60186a020b6e3f544e82a424df00b55?ref=outlook-calendar
DESCRIPTION: https://www.learndesk.us/class/4940031330353152/lesson/a60186a020b6e3f544e82a424df00b55?ref=outlook-calendar
STATUS:CONFIRMED
SEQUENCE:3
BEGIN:VALARM
TRIGGER:-PT10M
DESCRIPTION:Class Reminder
ACTION:DISPLAY
END:VALARM
END:VEVENT
END:VCALENDAR