BEGIN:VCALENDAR
VERSION:2.0
CALSCALE:GREGORIAN
BEGIN:VEVENT
URL:https://www.learndesk.us/class/4940031330353152/lesson/71c6bd45c9148139f40c07b33aa5da32?ref=outlook-calendar
SUMMARY:Class Introduction
DTSTART;TZID=America/Los_Angeles:20260421T190000
DTEND;TZID=America/Los_Angeles:20260421T200000
LOCATION:https://www.learndesk.us/class/4940031330353152/lesson/71c6bd45c9148139f40c07b33aa5da32?ref=outlook-calendar
DESCRIPTION: https://www.learndesk.us/class/4940031330353152/lesson/71c6bd45c9148139f40c07b33aa5da32?ref=outlook-calendar
STATUS:CONFIRMED
SEQUENCE:3
BEGIN:VALARM
TRIGGER:-PT10M
DESCRIPTION:Class Reminder
ACTION:DISPLAY
END:VALARM
END:VEVENT
END:VCALENDAR