BEGIN:VCALENDAR
VERSION:2.0
CALSCALE:GREGORIAN
BEGIN:VEVENT
URL:https://www.learndesk.us/class/4940031330353152/lesson/3b5c8b659739c190754fabff7448a913?ref=outlook-calendar
SUMMARY:Formulas and Functions
DTSTART;TZID=America/Los_Angeles:20260421T190000
DTEND;TZID=America/Los_Angeles:20260421T200000
LOCATION:https://www.learndesk.us/class/4940031330353152/lesson/3b5c8b659739c190754fabff7448a913?ref=outlook-calendar
DESCRIPTION: https://www.learndesk.us/class/4940031330353152/lesson/3b5c8b659739c190754fabff7448a913?ref=outlook-calendar
STATUS:CONFIRMED
SEQUENCE:3
BEGIN:VALARM
TRIGGER:-PT10M
DESCRIPTION:Class Reminder
ACTION:DISPLAY
END:VALARM
END:VEVENT
END:VCALENDAR