BEGIN:VCALENDAR
VERSION:2.0
CALSCALE:GREGORIAN
BEGIN:VEVENT
URL:https://www.learndesk.us/class/4940031330353152/lesson/2fd1c136b88d5622ecc1ea7ea32ed664?ref=outlook-calendar
SUMMARY:VLOOKUP function (lesson b)
DTSTART;TZID=America/Los_Angeles:20260425T190000
DTEND;TZID=America/Los_Angeles:20260425T200000
LOCATION:https://www.learndesk.us/class/4940031330353152/lesson/2fd1c136b88d5622ecc1ea7ea32ed664?ref=outlook-calendar
DESCRIPTION: https://www.learndesk.us/class/4940031330353152/lesson/2fd1c136b88d5622ecc1ea7ea32ed664?ref=outlook-calendar
STATUS:CONFIRMED
SEQUENCE:3
BEGIN:VALARM
TRIGGER:-PT10M
DESCRIPTION:Class Reminder
ACTION:DISPLAY
END:VALARM
END:VEVENT
END:VCALENDAR