BEGIN:VCALENDAR
VERSION:2.0
CALSCALE:GREGORIAN
BEGIN:VEVENT
URL:https://www.learndesk.us/class/4940031330353152/lesson/1db28df3f1b2e2c5c34aa59810cbfc2c?ref=outlook-calendar
SUMMARY:Tables
DTSTART;TZID=America/Los_Angeles:20260421T190000
DTEND;TZID=America/Los_Angeles:20260421T200000
LOCATION:https://www.learndesk.us/class/4940031330353152/lesson/1db28df3f1b2e2c5c34aa59810cbfc2c?ref=outlook-calendar
DESCRIPTION: Discover how tables make it easier to sort, filter and provide calculations.

https://www.learndesk.us/class/4940031330353152/lesson/1db28df3f1b2e2c5c34aa59810cbfc2c?ref=outlook-calendar
STATUS:CONFIRMED
SEQUENCE:3
BEGIN:VALARM
TRIGGER:-PT10M
DESCRIPTION:Class Reminder
ACTION:DISPLAY
END:VALARM
END:VEVENT
END:VCALENDAR