BEGIN:VCALENDAR
VERSION:2.0
CALSCALE:GREGORIAN
BEGIN:VEVENT
URL:https://www.learndesk.us/class/4940031330353152/up-your-microsoft-excel-skills?ref=outlook-calendar
SUMMARY:Up Your Microsoft Excel Skills
DTSTART;TZID=America/Los_Angeles:20260421T190000
DTEND;TZID=America/Los_Angeles:20260421T200000
LOCATION:https://www.learndesk.us/class/4940031330353152/up-your-microsoft-excel-skills?ref=outlook-calendar
DESCRIPTION: This course is designed for professionals working in the knowledge economy. I created this Microsoft Excel course to help the student gain confidence in Excel and unleash powerful insights with their data. The skillsets accomplished after taking this course will propel students to have a deeper appreciation of what the software can do for them.
What will you learn in this course?

Discover how to use tables to sort, filter, and analyze your data.
Use Conditional Formatting to format your data to show off numbers to make it easier to see how the data compares to itself.
Learn essential formulas in Excel that will make you look like a rock star at the office.
And we will cover PivotTables that can be the starting point for falling in love in new ways for Excel.

Who should take this course?
The course is designed to help all students, even if they have never used Excel before.

https://www.learndesk.us/class/4940031330353152/up-your-microsoft-excel-skills?ref=outlook-calendar
STATUS:CONFIRMED
SEQUENCE:3
BEGIN:VALARM
TRIGGER:-PT10M
DESCRIPTION:Class Reminder
ACTION:DISPLAY
END:VALARM
END:VEVENT
END:VCALENDAR