BEGIN:VCALENDAR
VERSION:2.0
CALSCALE:GREGORIAN
BEGIN:VEVENT
URL:https://www.learndesk.us/class/4938017368178688/lesson/c3f653dcee7df9e8fa4cd5b83b366fb4?ref=outlook-calendar
SUMMARY:Sex, Drugs and Rock n' Roll
DTSTART;TZID=America/Los_Angeles:20260422T190000
DTEND;TZID=America/Los_Angeles:20260422T200000
LOCATION:https://www.learndesk.us/class/4938017368178688/lesson/c3f653dcee7df9e8fa4cd5b83b366fb4?ref=outlook-calendar
DESCRIPTION: One of the most shocking experience for backpackers is the lack of privacy. Most of you probably were told by society that sex, drugs and the heavy party are not accepted. You just shouldn't do it. It's a disgrace. Well...backpacking is about letting loose once in a while and letting all those suppressed desires and tension go.

This doesn't mean you will see people doing what you were told not to ever do - all the time, but unless you get private rooms, you might encounter the "dark side". People let go of their boundaries and experience a whole new level of freedom while on the road. This includes sex, drugs and rock n' roll, but you can't let this scare you or ruin your backpacking experience. 

If you are going to share the room with others there will be instances where your comfort zone is pushed out the window. Now there are many lessons to learn from this.
Lesson 1 - You become a lot more accepting towards people
Lesson 2 - You become less judgmental
Lesson 3 - You expand...

https://www.learndesk.us/class/4938017368178688/lesson/c3f653dcee7df9e8fa4cd5b83b366fb4?ref=outlook-calendar
STATUS:CONFIRMED
SEQUENCE:3
BEGIN:VALARM
TRIGGER:-PT10M
DESCRIPTION:Class Reminder
ACTION:DISPLAY
END:VALARM
END:VEVENT
END:VCALENDAR