BEGIN:VCALENDAR
VERSION:2.0
CALSCALE:GREGORIAN
BEGIN:VEVENT
URL:https://www.learndesk.us/class/4938017368178688/lesson/b43727474e2895cc8545918b18b7ca00?ref=outlook-calendar
SUMMARY:BACKPACKER'S KICKSTARTER
DTSTART;TZID=America/Los_Angeles:20260422T190000
DTEND;TZID=America/Los_Angeles:20260422T200000
LOCATION:https://www.learndesk.us/class/4938017368178688/lesson/b43727474e2895cc8545918b18b7ca00?ref=outlook-calendar
DESCRIPTION: A massive hello to you soon-to-be-backpacker. My name is Stephanie, I'm the travel blogger of My Seven Worlds and a life coach on the side. My story began with a boat hitchhiking and crossing the Atlantic, after about 6 months on the road I met Ines in Colombia who was also on a soul searching 1-year journey just like me. 2 years later she traveled to visit me and create this course so we can offer 2 very different perspectives on a very similar story.

The reason why this course came to life was that Ines and I had done year-long backpacking in Latin America in 2016 and we both felt that the information we found online about backpacking just wasn't touching all the topics. Whatever you read online is always only one perspective and only one experience. I wanted to create something that covers more angles and also talks about the difficult topics that are considered taboo or censored in everyday life. Just because we don't talk about them, they are happening and I would argue they...

https://www.learndesk.us/class/4938017368178688/lesson/b43727474e2895cc8545918b18b7ca00?ref=outlook-calendar
STATUS:CONFIRMED
SEQUENCE:3
BEGIN:VALARM
TRIGGER:-PT10M
DESCRIPTION:Class Reminder
ACTION:DISPLAY
END:VALARM
END:VEVENT
END:VCALENDAR