BEGIN:VCALENDAR
VERSION:2.0
CALSCALE:GREGORIAN
BEGIN:VEVENT
URL:https://www.learndesk.us/class/4938017368178688/lesson/8a48bec60ff6a228421f822807371e60?ref=outlook-calendar
SUMMARY:Planning | Alone or with a travel buddy?
DTSTART;TZID=America/Los_Angeles:20260422T190000
DTEND;TZID=America/Los_Angeles:20260422T200000
LOCATION:https://www.learndesk.us/class/4938017368178688/lesson/8a48bec60ff6a228421f822807371e60?ref=outlook-calendar
DESCRIPTION: There are advantages and disadvantages to traveling alone and with a buddy, but this spectrum is not so black and white. There are options in between, which we'll talk about in the video.

First of all, you will need to redefine the word "alone" because it is not as easy as you'd think to actually be alone while backpacking, but to be lonely is easier if you leave yourself unchecked. 

Try as many variations as you can to have the full experience, because they each teach different lessons.

https://www.learndesk.us/class/4938017368178688/lesson/8a48bec60ff6a228421f822807371e60?ref=outlook-calendar
STATUS:CONFIRMED
SEQUENCE:3
BEGIN:VALARM
TRIGGER:-PT10M
DESCRIPTION:Class Reminder
ACTION:DISPLAY
END:VALARM
END:VEVENT
END:VCALENDAR