BEGIN:VCALENDAR
VERSION:2.0
CALSCALE:GREGORIAN
BEGIN:VEVENT
URL:https://www.learndesk.us/class/4938017368178688/lesson/80f62067a297a8939f1ea183712bdbb8?ref=outlook-calendar
SUMMARY:Why Do People Travel?
DTSTART;TZID=America/Los_Angeles:20260422T190000
DTEND;TZID=America/Los_Angeles:20260422T200000
LOCATION:https://www.learndesk.us/class/4938017368178688/lesson/80f62067a297a8939f1ea183712bdbb8?ref=outlook-calendar
DESCRIPTION: Everyone has a motive to travel and they usually sign up to way more than they initially intended. Some leave because of personal trauma like a breakup, divorce, death, being fired...some leave because they don't like what they have at home. Everyone has a story and you'll find this out when you start talking to travelers. It is a wonderful, supportive, active and self-aware community. 

Whatever your reasons are, you will get way more out of your trip than you thought. Backpacking is no tourism. You are not there for the pretty photos and new profile images, but for a more profound journey. Your inner journey. Backpacking usually lasts way longer as well then a family vacation. You interact with philosophies, races, feelings, gastronomy, and way of thinking that you might never have heard of, but definitely never experienced this deeply. They are all there to teach you.

One advice as a backpacker and life coach I could give you before such a trip is to leave your prejudice,...

https://www.learndesk.us/class/4938017368178688/lesson/80f62067a297a8939f1ea183712bdbb8?ref=outlook-calendar
STATUS:CONFIRMED
SEQUENCE:3
BEGIN:VALARM
TRIGGER:-PT10M
DESCRIPTION:Class Reminder
ACTION:DISPLAY
END:VALARM
END:VEVENT
END:VCALENDAR