BEGIN:VCALENDAR
VERSION:2.0
CALSCALE:GREGORIAN
BEGIN:VEVENT
URL:https://www.learndesk.us/class/4938017368178688/lesson/7ce75789df46ea0d3202d5164daf5681?ref=outlook-calendar
SUMMARY:Let's keep in touch
DTSTART;TZID=America/Los_Angeles:20260422T190000
DTEND;TZID=America/Los_Angeles:20260422T200000
LOCATION:https://www.learndesk.us/class/4938017368178688/lesson/7ce75789df46ea0d3202d5164daf5681?ref=outlook-calendar
DESCRIPTION: My social:
Website https://mysevenworlds.com
Facebook https://www.facebook.com/mysevenworldslifecoaching/
Instagram https://www.instagram.com/mysevenworlds/ 
YouTube https://www.youtube.com/channel/UCclbK04W4id0AAkEhuJ3OAg?view_as=subscriber

xoxo
Stephanie

https://www.learndesk.us/class/4938017368178688/lesson/7ce75789df46ea0d3202d5164daf5681?ref=outlook-calendar
STATUS:CONFIRMED
SEQUENCE:3
BEGIN:VALARM
TRIGGER:-PT10M
DESCRIPTION:Class Reminder
ACTION:DISPLAY
END:VALARM
END:VEVENT
END:VCALENDAR