BEGIN:VCALENDAR
VERSION:2.0
CALSCALE:GREGORIAN
BEGIN:VEVENT
URL:https://www.learndesk.us/class/4938017368178688/lesson/72ee464089ff4094131b066b549069bd?ref=outlook-calendar
SUMMARY:Before You Travel - Practical Advice
DTSTART;TZID=America/Los_Angeles:20260422T190000
DTEND;TZID=America/Los_Angeles:20260422T200000
LOCATION:https://www.learndesk.us/class/4938017368178688/lesson/72ee464089ff4094131b066b549069bd?ref=outlook-calendar
DESCRIPTION: The number one lesson here for most backpackers, especially ladies, you will not wear half of the things you pack. I did meet a few girls who backpacked with a 10kg bag for months, so it probably wasn't their first rodeo, but on mine, I had a 25kg backpack and maaaan it was heavy. 

In this video, we will be explaining a lot of practical lessons we learned through experience about what to bring, what not to bring, bank cards, money, safety and more.

https://www.learndesk.us/class/4938017368178688/lesson/72ee464089ff4094131b066b549069bd?ref=outlook-calendar
STATUS:CONFIRMED
SEQUENCE:3
BEGIN:VALARM
TRIGGER:-PT10M
DESCRIPTION:Class Reminder
ACTION:DISPLAY
END:VALARM
END:VEVENT
END:VCALENDAR