BEGIN:VCALENDAR
VERSION:2.0
CALSCALE:GREGORIAN
BEGIN:VEVENT
URL:https://www.learndesk.us/class/4938017368178688/lesson/68833d3e6ed9ff98990c7ee44cc76e06?ref=outlook-calendar
SUMMARY:Trouble On The Road
DTSTART;TZID=America/Los_Angeles:20260424T190000
DTEND;TZID=America/Los_Angeles:20260424T200000
LOCATION:https://www.learndesk.us/class/4938017368178688/lesson/68833d3e6ed9ff98990c7ee44cc76e06?ref=outlook-calendar
DESCRIPTION: We don't want to scare the bejesus out of you, but it is important to touch base on no so happy topics like what if you get sick, robbed and prevention. 

Being ill - that will happen eventually when you are traveling a different climate with different organisms. Being ill is not necessarily from something you ate or drank, but simply your digestive system has to face new challenges. No need to bring an entire pharmacy with you because the local pharmacist is more likely to have what you need for a tropical illness, but do check the shots you need before you travel. In many countries, you don't actually need insurance to see a doctor, you just pay a visit fee and that is it, but of course, best to be covered.

Being robbed - just don't be stupid. Don't ignore the advice locals and travel mates are telling you. Even if following all the rules you might get into trouble, but in the video, we'll explain prevention techniques. THE MOST EFFECTIVE TOOL to be targeted less is...

https://www.learndesk.us/class/4938017368178688/lesson/68833d3e6ed9ff98990c7ee44cc76e06?ref=outlook-calendar
STATUS:CONFIRMED
SEQUENCE:3
BEGIN:VALARM
TRIGGER:-PT10M
DESCRIPTION:Class Reminder
ACTION:DISPLAY
END:VALARM
END:VEVENT
END:VCALENDAR