BEGIN:VCALENDAR
VERSION:2.0
CALSCALE:GREGORIAN
BEGIN:VEVENT
URL:https://www.learndesk.us/class/4938017368178688/lesson/5c6bf0f00f25a18554191e2a78327d8f?ref=outlook-calendar
SUMMARY:Inner Journey - The Part That Make Traveling So Valuable
DTSTART;TZID=America/Los_Angeles:20260422T190000
DTEND;TZID=America/Los_Angeles:20260422T200000
LOCATION:https://www.learndesk.us/class/4938017368178688/lesson/5c6bf0f00f25a18554191e2a78327d8f?ref=outlook-calendar
DESCRIPTION: I always tell people that the most exciting part of traveling is the part you can't take pictures of. The inner journey. The person that leaves home is not going to be the same that returns. How could it? If you only left your environment for brief periods of time, you never really checked out. But when you are away for a long time, experiencing the world, these are stimuli that you wouldn't get at home. And since everything has an effect on us, the world will too.

Your core values are most probably not going to change drastically, but you will become a way more improved and open version of you. Your mind will expand and see beyond your microenvironment. Your whole approach to life will become different. 

As long as you pay attention to the lessons life is going to change you, you will benefit from this more than anything else. 

I always say as an employer if I see long-term traveling on a resume I would think that's a huge advantage. Because a backpacker learned to love life...

https://www.learndesk.us/class/4938017368178688/lesson/5c6bf0f00f25a18554191e2a78327d8f?ref=outlook-calendar
STATUS:CONFIRMED
SEQUENCE:3
BEGIN:VALARM
TRIGGER:-PT10M
DESCRIPTION:Class Reminder
ACTION:DISPLAY
END:VALARM
END:VEVENT
END:VCALENDAR