BEGIN:VCALENDAR
VERSION:2.0
CALSCALE:GREGORIAN
BEGIN:VEVENT
URL:https://www.learndesk.us/class/4938017368178688/lesson/3aa8067cf469ff9056fceb4d332adc13?ref=outlook-calendar
SUMMARY:Human Connections
DTSTART;TZID=America/Los_Angeles:20260424T190000
DTEND;TZID=America/Los_Angeles:20260424T200000
LOCATION:https://www.learndesk.us/class/4938017368178688/lesson/3aa8067cf469ff9056fceb4d332adc13?ref=outlook-calendar
DESCRIPTION: There will be a ton of memories you'll never forget after your adventure, but the friends you'll make and the people you met will always stand out. Getting a glimpse into how people think on other sides of the planet, the beliefs they possess, the routines they have and very educational. You will see that your truth is not the only truth. Everyone has their own based on culture, experience, education and personality.

About making friends, that could be very tricky, but not the way you might think. We both met people (and each other) who we had such a strong connection with, it just didn't compare to our friends at home. But we should never compare. One is not better than the other, they are just very different.

Firstly, while traveling you are probably experiencing the freedom that is so wide open, you are intoxicated by it. Imagine only meeting people who are as high on life as you are. Of course, you'll have the time fo your life with them, talking about deep stuff, sharing...

https://www.learndesk.us/class/4938017368178688/lesson/3aa8067cf469ff9056fceb4d332adc13?ref=outlook-calendar
STATUS:CONFIRMED
SEQUENCE:3
BEGIN:VALARM
TRIGGER:-PT10M
DESCRIPTION:Class Reminder
ACTION:DISPLAY
END:VALARM
END:VEVENT
END:VCALENDAR