BEGIN:VCALENDAR
VERSION:2.0
CALSCALE:GREGORIAN
BEGIN:VEVENT
URL:https://www.learndesk.us/class/4938017368178688/lesson/37a3d6f0d4cc434af55be7e26e55819e?ref=outlook-calendar
SUMMARY:What's next?
DTSTART;TZID=America/Los_Angeles:20260422T190000
DTEND;TZID=America/Los_Angeles:20260422T200000
LOCATION:https://www.learndesk.us/class/4938017368178688/lesson/37a3d6f0d4cc434af55be7e26e55819e?ref=outlook-calendar
DESCRIPTION: I hope you got some useful information out of this course and feel free to get in touch with me, ask your questions, share your experiences and invite me to follow your social media.

https://www.learndesk.us/class/4938017368178688/lesson/37a3d6f0d4cc434af55be7e26e55819e?ref=outlook-calendar
STATUS:CONFIRMED
SEQUENCE:3
BEGIN:VALARM
TRIGGER:-PT10M
DESCRIPTION:Class Reminder
ACTION:DISPLAY
END:VALARM
END:VEVENT
END:VCALENDAR