BEGIN:VCALENDAR
VERSION:2.0
CALSCALE:GREGORIAN
BEGIN:VEVENT
URL:https://www.learndesk.us/class/4938017368178688/lesson/3383974736af0d206ac15dabd543986b?ref=outlook-calendar
SUMMARY:Being On The Road
DTSTART;TZID=America/Los_Angeles:20260422T190000
DTEND;TZID=America/Los_Angeles:20260422T200000
LOCATION:https://www.learndesk.us/class/4938017368178688/lesson/3383974736af0d206ac15dabd543986b?ref=outlook-calendar
DESCRIPTION: Now, this is the fun part and I added some videos from the trip to show you what backpacking was like in Latin America. For all the travel videos visit my YouTube page: https://www.youtube.com/channel/UCclbK04W4id0AAkEhuJ3OAg?view_as=subscriber

https://www.learndesk.us/class/4938017368178688/lesson/3383974736af0d206ac15dabd543986b?ref=outlook-calendar
STATUS:CONFIRMED
SEQUENCE:3
BEGIN:VALARM
TRIGGER:-PT10M
DESCRIPTION:Class Reminder
ACTION:DISPLAY
END:VALARM
END:VEVENT
END:VCALENDAR