BEGIN:VCALENDAR
VERSION:2.0
CALSCALE:GREGORIAN
BEGIN:VEVENT
URL:https://www.learndesk.us/class/4938017368178688/lesson/1a4326ad4b9cbb8cf5619fc776c0346d?ref=outlook-calendar
SUMMARY:Staying Alive - More Practical Info
DTSTART;TZID=America/Los_Angeles:20260422T190000
DTEND;TZID=America/Los_Angeles:20260422T200000
LOCATION:https://www.learndesk.us/class/4938017368178688/lesson/1a4326ad4b9cbb8cf5619fc776c0346d?ref=outlook-calendar
DESCRIPTION: Don't worry, the title sounds way more dramatic than the actual topics of the video :) We are just expanding more on the practical side the long-term traveling.

https://www.learndesk.us/class/4938017368178688/lesson/1a4326ad4b9cbb8cf5619fc776c0346d?ref=outlook-calendar
STATUS:CONFIRMED
SEQUENCE:3
BEGIN:VALARM
TRIGGER:-PT10M
DESCRIPTION:Class Reminder
ACTION:DISPLAY
END:VALARM
END:VEVENT
END:VCALENDAR