BEGIN:VCALENDAR
VERSION:2.0
CALSCALE:GREGORIAN
BEGIN:VEVENT
URL:https://www.learndesk.us/class/4938017368178688/backpacker-s-kickstarter?ref=outlook-calendar
SUMMARY:Backpacker's Kickstarter
DTSTART;TZID=America/Los_Angeles:20260422T190000
DTEND;TZID=America/Los_Angeles:20260422T200000
LOCATION:https://www.learndesk.us/class/4938017368178688/backpacker-s-kickstarter?ref=outlook-calendar
DESCRIPTION: When you search for information online what you need to do before a backpacking adventure, you probably go on dozens of blogs and you'll find a variety of conflicting information. Why? Because everyone will share their own and only perspective. If they found something useful, they'll recommend it, if they found something a drag, they won't recommend it.
But just because someone said it's okay, or not okay, you might find yourself having a very different experience. So this course chose to show you 2 widely different backpacker experience from 2 widely different people, who met in Colombia on a year-long backpacking trip and became friends.
Most of the time soon-to-be-travelers ask only practical questions. 

What should I bring?
What about insurance and bank cards?
How fast should I travel?
How much money will I need?

But what no one asks - and backpacking is really about are:

How will this change me?
Will I feel lonely and if so, how to deal with it?
What if other the trip I...

https://www.learndesk.us/class/4938017368178688/backpacker-s-kickstarter?ref=outlook-calendar
STATUS:CONFIRMED
SEQUENCE:3
BEGIN:VALARM
TRIGGER:-PT10M
DESCRIPTION:Class Reminder
ACTION:DISPLAY
END:VALARM
END:VEVENT
END:VCALENDAR