BEGIN:VCALENDAR
VERSION:2.0
CALSCALE:GREGORIAN
BEGIN:VEVENT
URL:https://www.learndesk.us/class/4935902222614528/lesson/1d8c923f8c739f87f67ab0dc472e8a3f?ref=outlook-calendar
SUMMARY:Lesson 3: Expert
DTSTART;TZID=America/Los_Angeles:20260421T190000
DTEND;TZID=America/Los_Angeles:20260421T200000
LOCATION:https://www.learndesk.us/class/4935902222614528/lesson/1d8c923f8c739f87f67ab0dc472e8a3f?ref=outlook-calendar
DESCRIPTION: https://www.learndesk.us/class/4935902222614528/lesson/1d8c923f8c739f87f67ab0dc472e8a3f?ref=outlook-calendar
STATUS:CONFIRMED
SEQUENCE:3
BEGIN:VALARM
TRIGGER:-PT10M
DESCRIPTION:Class Reminder
ACTION:DISPLAY
END:VALARM
END:VEVENT
END:VCALENDAR