BEGIN:VCALENDAR
VERSION:2.0
CALSCALE:GREGORIAN
BEGIN:VEVENT
URL:https://www.learndesk.us/class/4935902222614528/lesson/12a449e64c40561196bec2039f134fec?ref=outlook-calendar
SUMMARY:Lesson 7: Bio
DTSTART;TZID=America/Los_Angeles:20260421T190000
DTEND;TZID=America/Los_Angeles:20260421T200000
LOCATION:https://www.learndesk.us/class/4935902222614528/lesson/12a449e64c40561196bec2039f134fec?ref=outlook-calendar
DESCRIPTION: https://www.learndesk.us/class/4935902222614528/lesson/12a449e64c40561196bec2039f134fec?ref=outlook-calendar
STATUS:CONFIRMED
SEQUENCE:3
BEGIN:VALARM
TRIGGER:-PT10M
DESCRIPTION:Class Reminder
ACTION:DISPLAY
END:VALARM
END:VEVENT
END:VCALENDAR