BEGIN:VCALENDAR
VERSION:2.0
CALSCALE:GREGORIAN
BEGIN:VEVENT
URL:https://www.learndesk.us/class/4934421029322752/lesson/f33280e645f0a34ea1b370ad4c80f0ec?ref=outlook-calendar
SUMMARY:Customizing the UI
DTSTART;TZID=America/Los_Angeles:20260420T190000
DTEND;TZID=America/Los_Angeles:20260420T200000
LOCATION:https://www.learndesk.us/class/4934421029322752/lesson/f33280e645f0a34ea1b370ad4c80f0ec?ref=outlook-calendar
DESCRIPTION: https://www.learndesk.us/class/4934421029322752/lesson/f33280e645f0a34ea1b370ad4c80f0ec?ref=outlook-calendar
STATUS:CONFIRMED
SEQUENCE:3
BEGIN:VALARM
TRIGGER:-PT10M
DESCRIPTION:Class Reminder
ACTION:DISPLAY
END:VALARM
END:VEVENT
END:VCALENDAR