BEGIN:VCALENDAR
VERSION:2.0
CALSCALE:GREGORIAN
BEGIN:VEVENT
URL:https://www.learndesk.us/class/4934421029322752/lesson/5363c649108f57f9b2e924beb2ee78c8?ref=outlook-calendar
SUMMARY:Hexadecimal color code
DTSTART;TZID=America/Los_Angeles:20260422T190000
DTEND;TZID=America/Los_Angeles:20260422T200000
LOCATION:https://www.learndesk.us/class/4934421029322752/lesson/5363c649108f57f9b2e924beb2ee78c8?ref=outlook-calendar
DESCRIPTION: https://www.learndesk.us/class/4934421029322752/lesson/5363c649108f57f9b2e924beb2ee78c8?ref=outlook-calendar
STATUS:CONFIRMED
SEQUENCE:3
BEGIN:VALARM
TRIGGER:-PT10M
DESCRIPTION:Class Reminder
ACTION:DISPLAY
END:VALARM
END:VEVENT
END:VCALENDAR