BEGIN:VCALENDAR
VERSION:2.0
CALSCALE:GREGORIAN
BEGIN:VEVENT
URL:https://www.learndesk.us/class/4911689176711168/lesson/efcfe339de000d1bec169d7ec08a84c7?ref=outlook-calendar
SUMMARY:Computer Screen Options
DTSTART;TZID=America/Los_Angeles:20260424T190000
DTEND;TZID=America/Los_Angeles:20260424T200000
LOCATION:https://www.learndesk.us/class/4911689176711168/lesson/efcfe339de000d1bec169d7ec08a84c7?ref=outlook-calendar
DESCRIPTION: https://www.learndesk.us/class/4911689176711168/lesson/efcfe339de000d1bec169d7ec08a84c7?ref=outlook-calendar
STATUS:CONFIRMED
SEQUENCE:3
BEGIN:VALARM
TRIGGER:-PT10M
DESCRIPTION:Class Reminder
ACTION:DISPLAY
END:VALARM
END:VEVENT
END:VCALENDAR