BEGIN:VCALENDAR
VERSION:2.0
CALSCALE:GREGORIAN
BEGIN:VEVENT
URL:https://www.learndesk.us/class/4911689176711168/lesson/598019f26ab7f4a57bb40f7d7bbabca4?ref=outlook-calendar
SUMMARY:Inequalities Problem 12
DTSTART;TZID=America/Los_Angeles:20260423T190000
DTEND;TZID=America/Los_Angeles:20260423T200000
LOCATION:https://www.learndesk.us/class/4911689176711168/lesson/598019f26ab7f4a57bb40f7d7bbabca4?ref=outlook-calendar
DESCRIPTION: https://www.learndesk.us/class/4911689176711168/lesson/598019f26ab7f4a57bb40f7d7bbabca4?ref=outlook-calendar
STATUS:CONFIRMED
SEQUENCE:3
BEGIN:VALARM
TRIGGER:-PT10M
DESCRIPTION:Class Reminder
ACTION:DISPLAY
END:VALARM
END:VEVENT
END:VCALENDAR