BEGIN:VCALENDAR
VERSION:2.0
CALSCALE:GREGORIAN
BEGIN:VEVENT
URL:https://www.learndesk.us/class/4911689176711168/lesson/3c2ad3cf18e045c3422214e2289fc8f7?ref=outlook-calendar
SUMMARY:Coordinate Geometry Example 7
DTSTART;TZID=America/Los_Angeles:20260424T190000
DTEND;TZID=America/Los_Angeles:20260424T200000
LOCATION:https://www.learndesk.us/class/4911689176711168/lesson/3c2ad3cf18e045c3422214e2289fc8f7?ref=outlook-calendar
DESCRIPTION: https://www.learndesk.us/class/4911689176711168/lesson/3c2ad3cf18e045c3422214e2289fc8f7?ref=outlook-calendar
STATUS:CONFIRMED
SEQUENCE:3
BEGIN:VALARM
TRIGGER:-PT10M
DESCRIPTION:Class Reminder
ACTION:DISPLAY
END:VALARM
END:VEVENT
END:VCALENDAR