BEGIN:VCALENDAR
VERSION:2.0
CALSCALE:GREGORIAN
BEGIN:VEVENT
URL:https://www.learndesk.us/class/4911689176711168/lesson/27e3d973c8bea96d44f0b11fca7ca14a?ref=outlook-calendar
SUMMARY:Geometry 'Birds-Eye' View 1
DTSTART;TZID=America/Los_Angeles:20260422T190000
DTEND;TZID=America/Los_Angeles:20260422T200000
LOCATION:https://www.learndesk.us/class/4911689176711168/lesson/27e3d973c8bea96d44f0b11fca7ca14a?ref=outlook-calendar
DESCRIPTION: https://www.learndesk.us/class/4911689176711168/lesson/27e3d973c8bea96d44f0b11fca7ca14a?ref=outlook-calendar
STATUS:CONFIRMED
SEQUENCE:3
BEGIN:VALARM
TRIGGER:-PT10M
DESCRIPTION:Class Reminder
ACTION:DISPLAY
END:VALARM
END:VEVENT
END:VCALENDAR