BEGIN:VCALENDAR
VERSION:2.0
CALSCALE:GREGORIAN
BEGIN:VEVENT
URL:https://www.learndesk.us/class/4911689176711168/lesson/0c813f30c85ea425f755d8470842b46d?ref=outlook-calendar
SUMMARY:Number Theory Problem 6
DTSTART;TZID=America/Los_Angeles:20260422T190000
DTEND;TZID=America/Los_Angeles:20260422T200000
LOCATION:https://www.learndesk.us/class/4911689176711168/lesson/0c813f30c85ea425f755d8470842b46d?ref=outlook-calendar
DESCRIPTION: https://www.learndesk.us/class/4911689176711168/lesson/0c813f30c85ea425f755d8470842b46d?ref=outlook-calendar
STATUS:CONFIRMED
SEQUENCE:3
BEGIN:VALARM
TRIGGER:-PT10M
DESCRIPTION:Class Reminder
ACTION:DISPLAY
END:VALARM
END:VEVENT
END:VCALENDAR