BEGIN:VCALENDAR
VERSION:2.0
CALSCALE:GREGORIAN
BEGIN:VEVENT
URL:https://www.learndesk.us/class/4911689176711168/gmat-math-prep-course?ref=outlook-calendar
SUMMARY:GMAT Math Prep Course
DTSTART;TZID=America/Los_Angeles:20260422T190000
DTEND;TZID=America/Los_Angeles:20260422T200000
LOCATION:https://www.learndesk.us/class/4911689176711168/gmat-math-prep-course?ref=outlook-calendar
DESCRIPTION: 
Every year, students pay $1,000 and more to test prep companies to prepare for the math section of the GMAT. Now you can get the same preparation in an online course. GMAT Math Prep Course provides the equivalent of a 2-month, 50-hour course.
Although the GMAT math section is steep, it is very learnable. GMAT Math Prep Course presents a thorough analysis of GMAT math. The course also introduces numerous analytic techniques that will help you immensely, not only on the GMAT but in business school as well.
The course contains all the text from the 528-page book GMAT Math Prep Course, so it is fully self-contained. You will not need to get any outside materials for the course.
Features:  

Videos: About 600 videos explaining the text, examples, and exercises in step-by-step detail.
Comprehensive Review: Twenty-two chapters provide a comprehensive review of GMAT math.
Mentor Exercises: These exercises provide hints, insight, and partial solutions to ease your transition from seeing...

https://www.learndesk.us/class/4911689176711168/gmat-math-prep-course?ref=outlook-calendar
STATUS:CONFIRMED
SEQUENCE:3
BEGIN:VALARM
TRIGGER:-PT10M
DESCRIPTION:Class Reminder
ACTION:DISPLAY
END:VALARM
END:VEVENT
END:VCALENDAR