BEGIN:VCALENDAR
VERSION:2.0
CALSCALE:GREGORIAN
BEGIN:VEVENT
URL:https://www.learndesk.us/class/4898669381812224/lesson/b2304eb1603e49d422e404c22bab3966?ref=outlook-calendar
SUMMARY:Cassandra on Docker Container
DTSTART;TZID=America/Los_Angeles:20260422T190000
DTEND;TZID=America/Los_Angeles:20260422T200000
LOCATION:https://www.learndesk.us/class/4898669381812224/lesson/b2304eb1603e49d422e404c22bab3966?ref=outlook-calendar
DESCRIPTION: https://www.learndesk.us/class/4898669381812224/lesson/b2304eb1603e49d422e404c22bab3966?ref=outlook-calendar
STATUS:CONFIRMED
SEQUENCE:3
BEGIN:VALARM
TRIGGER:-PT10M
DESCRIPTION:Class Reminder
ACTION:DISPLAY
END:VALARM
END:VEVENT
END:VCALENDAR