BEGIN:VCALENDAR
VERSION:2.0
CALSCALE:GREGORIAN
BEGIN:VEVENT
URL:https://www.learndesk.us/class/4898669381812224/lesson/8ad96e1f98bfbb5bc1f0ce0c97e2df3f?ref=outlook-calendar
SUMMARY:Install Docker on Ubuntu 18.04
DTSTART;TZID=America/Los_Angeles:20260422T190000
DTEND;TZID=America/Los_Angeles:20260422T200000
LOCATION:https://www.learndesk.us/class/4898669381812224/lesson/8ad96e1f98bfbb5bc1f0ce0c97e2df3f?ref=outlook-calendar
DESCRIPTION: https://www.learndesk.us/class/4898669381812224/lesson/8ad96e1f98bfbb5bc1f0ce0c97e2df3f?ref=outlook-calendar
STATUS:CONFIRMED
SEQUENCE:3
BEGIN:VALARM
TRIGGER:-PT10M
DESCRIPTION:Class Reminder
ACTION:DISPLAY
END:VALARM
END:VEVENT
END:VCALENDAR