BEGIN:VCALENDAR
VERSION:2.0
CALSCALE:GREGORIAN
BEGIN:VEVENT
URL:https://www.learndesk.us/class/4898669381812224/lesson/2f1073ac7cbd6b1be91f1875fd41b487?ref=outlook-calendar
SUMMARY:Event Simulator using Python(Server Status Detail)
DTSTART;TZID=America/Los_Angeles:20260422T190000
DTEND;TZID=America/Los_Angeles:20260422T200000
LOCATION:https://www.learndesk.us/class/4898669381812224/lesson/2f1073ac7cbd6b1be91f1875fd41b487?ref=outlook-calendar
DESCRIPTION: https://www.learndesk.us/class/4898669381812224/lesson/2f1073ac7cbd6b1be91f1875fd41b487?ref=outlook-calendar
STATUS:CONFIRMED
SEQUENCE:3
BEGIN:VALARM
TRIGGER:-PT10M
DESCRIPTION:Class Reminder
ACTION:DISPLAY
END:VALARM
END:VEVENT
END:VCALENDAR