BEGIN:VCALENDAR
VERSION:2.0
CALSCALE:GREGORIAN
BEGIN:VEVENT
URL:https://www.learndesk.us/class/4898669381812224/lesson/07d1ced24342d3404fc6f4ef62f389de?ref=outlook-calendar
SUMMARY:Building Dashboard using Django Web Framework and Flexmonster | Visualization
DTSTART;TZID=America/Los_Angeles:20260422T190000
DTEND;TZID=America/Los_Angeles:20260422T200000
LOCATION:https://www.learndesk.us/class/4898669381812224/lesson/07d1ced24342d3404fc6f4ef62f389de?ref=outlook-calendar
DESCRIPTION: https://www.learndesk.us/class/4898669381812224/lesson/07d1ced24342d3404fc6f4ef62f389de?ref=outlook-calendar
STATUS:CONFIRMED
SEQUENCE:3
BEGIN:VALARM
TRIGGER:-PT10M
DESCRIPTION:Class Reminder
ACTION:DISPLAY
END:VALARM
END:VEVENT
END:VCALENDAR